BEGIN:VCALENDAR
VERSION:2.0
PRODID:-//https://www.cany-barville.fr///NONSGML kigkonsult.se iCalcreator 2.10.15//
METHOD:PUBLISH
BEGIN:VEVENT
UID:20260424T183347CEST-2657JxzKwc@https://www.cany-barville.fr/
DTSTAMP:20260424T163347Z
DESCRIPTION:\n\nLes petits monstres arrivent à Cany-Barville !\nCe vendredi
  29 octobre\, le Conseil Municipal des Enfants et la médiathèque les Semai
 lles vous invitent à un après-midi d’animations pour fêter Halloween.\nAu 
 programme :\n\n\n14h30 – 17h00 : ateliers créatifs et coloriages d’Hallowe
 en — Hôtel de ville\n\n\n15h30 : concours de la plus belle création culina
 ire — Hôtel de ville Les participants doivent apporter et repartir avec le
 ur création. Tentez de gagner un seau de bonbons !&nbsp\;\n\n\n17h30 – 19h
 30 : film d’Halloween (à partir de 10 ans) — médiathèque les Semailles Cha
 rade : Mon 1er est un félin domestique\, mon 2ème = 60 minutes\, mon 3ème 
 = une préposition\, mon 4ème = un animal fantastique\, synonyme de terribl
 e ou méchant\, mon 5ème = 1+1. Mon tout est la suite d’un film d'animation
 . A vous de deviner le titre !\n\n\nInscription obligatoire : Accueil de l
 a mairie — 02.35.97.71.44 — ✉️ communication@cany-barville.fr\n\n https://
 www.cany-barville.fr/evenement/573-nouvel-le-cme-fete-halloween
DTSTART:20251031T140800Z
DTEND:20251031T190800Z
LOCATION:Salle des mariages de l'Hôtel de ville ()
SUMMARY:Le CME fête Halloween
URL:https://www.cany-barville.fr/evenement/573-nouvel-le-cme-fete-halloween
END:VEVENT
END:VCALENDAR
